BEGIN:VCALENDAR
VERSION:2.0
PRODID:-//Radical Motorsport Sweden - ECPv6.15.20//NONSGML v1.0//EN
CALSCALE:GREGORIAN
METHOD:PUBLISH
X-WR-CALNAME:Radical Motorsport Sweden
X-ORIGINAL-URL:https://www.radicalsweden.nu
X-WR-CALDESC:Events for Radical Motorsport Sweden
REFRESH-INTERVAL;VALUE=DURATION:PT1H
X-Robots-Tag:noindex
X-PUBLISHED-TTL:PT1H
BEGIN:VTIMEZONE
TZID:UTC
BEGIN:STANDARD
TZOFFSETFROM:+0000
TZOFFSETTO:+0000
TZNAME:UTC
DTSTART:20250101T000000
END:STANDARD
END:VTIMEZONE
BEGIN:VEVENT
DTSTART;TZID=UTC:20260425T090000
DTEND;TZID=UTC:20260425T160000
DTSTAMP:20260419T161519
CREATED:20260128T144228Z
LAST-MODIFIED:20260128T151844Z
UID:6491-1777107600-1777132800@www.radicalsweden.nu
SUMMARY:Drivers Club - Ljungbyhed
DESCRIPTION:
URL:https://www.radicalsweden.nu/event/drivers-club-ljungbyhed-34/
LOCATION:Ljungbyheds Motorbana\, THULINVÄGEN 23\, Ljungbyhed\, 26451\, Sweden
CATEGORIES:Test/Trackday
END:VEVENT
BEGIN:VEVENT
DTSTART;TZID=UTC:20260506T090000
DTEND;TZID=UTC:20260506T160000
DTSTAMP:20260419T161519
CREATED:20260128T144228Z
LAST-MODIFIED:20260128T151821Z
UID:6492-1778058000-1778083200@www.radicalsweden.nu
SUMMARY:Drivers Club - Ring Knutstorp
DESCRIPTION:
URL:https://www.radicalsweden.nu/event/drivers-club-ring-knutstorp-11/
LOCATION:Ring Knutstorp\, Knutstorpsvägen 1030\, Kågeröd\, 26876\, Sweden
CATEGORIES:Test/Trackday
END:VEVENT
BEGIN:VEVENT
DTSTART;TZID=UTC:20260516T090000
DTEND;TZID=UTC:20260516T160000
DTSTAMP:20260419T161519
CREATED:20260128T144228Z
LAST-MODIFIED:20260128T151736Z
UID:6493-1778922000-1778947200@www.radicalsweden.nu
SUMMARY:Drivers Club - Ljungbyhed
DESCRIPTION:
URL:https://www.radicalsweden.nu/event/drivers-club-ljungbyhed-33/
LOCATION:Ljungbyheds Motorbana\, THULINVÄGEN 23\, Ljungbyhed\, 26451\, Sweden
CATEGORIES:Test/Trackday
END:VEVENT
BEGIN:VEVENT
DTSTART;TZID=UTC:20260520T090000
DTEND;TZID=UTC:20260520T160000
DTSTAMP:20260419T161519
CREATED:20260128T144228Z
LAST-MODIFIED:20260128T151715Z
UID:6494-1779267600-1779292800@www.radicalsweden.nu
SUMMARY:Drivers Club - Ljungbyhed
DESCRIPTION:
URL:https://www.radicalsweden.nu/event/drivers-club-ljungbyhed-32/
LOCATION:Ljungbyheds Motorbana\, THULINVÄGEN 23\, Ljungbyhed\, 26451\, Sweden
CATEGORIES:Test/Trackday
END:VEVENT
BEGIN:VEVENT
DTSTART;TZID=UTC:20260529T090000
DTEND;TZID=UTC:20260531T170000
DTSTAMP:20260419T161519
CREATED:20260128T144227Z
LAST-MODIFIED:20260128T151652Z
UID:6506-1780045200-1780246800@www.radicalsweden.nu
SUMMARY:Radical Cup Scandinavia R1 - Gelleråsen Arena
DESCRIPTION:
URL:https://www.radicalsweden.nu/event/radical-cup-scandinavia-r1-gellerasen-arena/
LOCATION:Gelleråsen Arena\, Gelleråsen 654\, Karlskoga\, 691 91\, Sweden
CATEGORIES:Radical Cup Scandinavia
END:VEVENT
BEGIN:VEVENT
DTSTART;TZID=UTC:20260605T090000
DTEND;TZID=UTC:20260607T170000
DTSTAMP:20260419T161519
CREATED:20260128T144944Z
LAST-MODIFIED:20260128T151630Z
UID:6538-1780650000-1780851600@www.radicalsweden.nu
SUMMARY:Radical Cup Europe R3 - Circuit Paul Ricard
DESCRIPTION:
URL:https://www.radicalsweden.nu/event/radical-cup-europe-r3-circuit-paul-ricard/
LOCATION:Circuit Paul Ricard\, 2760 Rte des Hauts du Camp\, Le Castellet\, France
CATEGORIES:Radical Cup Europe
END:VEVENT
BEGIN:VEVENT
DTSTART;TZID=UTC:20260611T090000
DTEND;TZID=UTC:20260611T160000
DTSTAMP:20260419T161519
CREATED:20260128T144227Z
LAST-MODIFIED:20260128T151527Z
UID:6495-1781168400-1781193600@www.radicalsweden.nu
SUMMARY:Drivers Club - Ring Knutstorp
DESCRIPTION:
URL:https://www.radicalsweden.nu/event/drivers-club-ring-knutstorp-10/
LOCATION:Ring Knutstorp\, Knutstorpsvägen 1030\, Kågeröd\, 26876\, Sweden
CATEGORIES:Test/Trackday
END:VEVENT
BEGIN:VEVENT
DTSTART;TZID=UTC:20260618T090000
DTEND;TZID=UTC:20260618T160000
DTSTAMP:20260419T161519
CREATED:20260128T144227Z
LAST-MODIFIED:20260128T151435Z
UID:6496-1781773200-1781798400@www.radicalsweden.nu
SUMMARY:Drivers Club - Ljungbyhed
DESCRIPTION:
URL:https://www.radicalsweden.nu/event/drivers-club-ljungbyhed-31/
LOCATION:Ljungbyheds Motorbana\, THULINVÄGEN 23\, Ljungbyhed\, 26451\, Sweden
CATEGORIES:Test/Trackday
END:VEVENT
BEGIN:VEVENT
DTSTART;TZID=UTC:20260626T090000
DTEND;TZID=UTC:20260627T170000
DTSTAMP:20260419T161519
CREATED:20260128T144227Z
LAST-MODIFIED:20260128T151410Z
UID:6507-1782464400-1782579600@www.radicalsweden.nu
SUMMARY:Radical Cup Scandinavia R2 - Airport Race Ljungbyhed
DESCRIPTION:
URL:https://www.radicalsweden.nu/event/radical-cup-scandinavia-r2-airport-race-ljungbyhed/
LOCATION:Ljungbyheds Motorbana\, THULINVÄGEN 23\, Ljungbyhed\, 26451\, Sweden
CATEGORIES:Radical Cup Scandinavia
END:VEVENT
BEGIN:VEVENT
DTSTART;TZID=UTC:20260703T090000
DTEND;TZID=UTC:20260705T170000
DTSTAMP:20260419T161519
CREATED:20260128T144944Z
LAST-MODIFIED:20260128T151344Z
UID:6539-1783069200-1783270800@www.radicalsweden.nu
SUMMARY:Radical Cup Europe R4 - Nürburgring
DESCRIPTION:
URL:https://www.radicalsweden.nu/event/radical-cup-europe-r4-nurburgring/
LOCATION:Nürburgring\, Otto-Flimm-Straße\, Nürburg\, Germany
CATEGORIES:Radical Cup Europe
END:VEVENT
BEGIN:VEVENT
DTSTART;TZID=UTC:20260709T090000
DTEND;TZID=UTC:20260709T160000
DTSTAMP:20260419T161519
CREATED:20260128T144227Z
LAST-MODIFIED:20260128T151153Z
UID:6497-1783587600-1783612800@www.radicalsweden.nu
SUMMARY:Drivers Club - Ljungbyhed
DESCRIPTION:
URL:https://www.radicalsweden.nu/event/drivers-club-ljungbyhed-30/
LOCATION:Ljungbyheds Motorbana\, THULINVÄGEN 23\, Ljungbyhed\, 26451\, Sweden
CATEGORIES:Test/Trackday
END:VEVENT
BEGIN:VEVENT
DTSTART;TZID=UTC:20260713T080000
DTEND;TZID=UTC:20260726T170000
DTSTAMP:20260419T161519
CREATED:20250206T194200Z
LAST-MODIFIED:20260128T152409Z
UID:5009-1783929600-1785085200@www.radicalsweden.nu
SUMMARY:Radical Sweden - Semesterstängt
DESCRIPTION:Radical Sweden \n\n\n\nwww.radicalsweden.nu \n\n\n\ninfo@radicalsweden.nu
URL:https://www.radicalsweden.nu/event/radical-sweden-semesterstangt-4-2/
LOCATION:Ljungbyheds Motorbana\, THULINVÄGEN 23\, Ljungbyhed\, 26451\, Sweden
ATTACH;FMTTYPE=image/svg+xml:https://www.radicalsweden.nu/wp-content/uploads/2023/11/dealer_logo_radical_sweden.svg
END:VEVENT
BEGIN:VEVENT
DTSTART;TZID=UTC:20260806T090000
DTEND;TZID=UTC:20260806T160000
DTSTAMP:20260419T161519
CREATED:20260128T144227Z
LAST-MODIFIED:20260128T151121Z
UID:6498-1786006800-1786032000@www.radicalsweden.nu
SUMMARY:Drivers Club - Ljungbyhed
DESCRIPTION:
URL:https://www.radicalsweden.nu/event/drivers-club-ljungbyhed-29/
LOCATION:Ljungbyheds Motorbana\, THULINVÄGEN 23\, Ljungbyhed\, 26451\, Sweden
CATEGORIES:Test/Trackday
END:VEVENT
BEGIN:VEVENT
DTSTART;TZID=UTC:20260821T090000
DTEND;TZID=UTC:20260821T160000
DTSTAMP:20260419T161519
CREATED:20260128T144227Z
LAST-MODIFIED:20260128T151045Z
UID:6499-1787302800-1787328000@www.radicalsweden.nu
SUMMARY:Drivers Club - Ljungbyhed
DESCRIPTION:
URL:https://www.radicalsweden.nu/event/drivers-club-ljungbyhed-28/
LOCATION:Ljungbyheds Motorbana\, THULINVÄGEN 23\, Ljungbyhed\, 26451\, Sweden
CATEGORIES:Test/Trackday
END:VEVENT
BEGIN:VEVENT
DTSTART;TZID=UTC:20260828T090000
DTEND;TZID=UTC:20260829T170000
DTSTAMP:20260419T161519
CREATED:20260128T144227Z
LAST-MODIFIED:20260128T151022Z
UID:6508-1787907600-1788022800@www.radicalsweden.nu
SUMMARY:Radical Cup Scandinavia R3 - Ring Knutstorp
DESCRIPTION:
URL:https://www.radicalsweden.nu/event/radical-cup-scandinavia-r3-ring-knutstorp/
LOCATION:Ring Knutstorp\, Knutstorpsvägen 1030\, Kågeröd\, 26876\, Sweden
CATEGORIES:Radical Cup Scandinavia
END:VEVENT
BEGIN:VEVENT
DTSTART;TZID=UTC:20260909T090000
DTEND;TZID=UTC:20260909T160000
DTSTAMP:20260419T161519
CREATED:20260128T144227Z
LAST-MODIFIED:20260128T150959Z
UID:6501-1788944400-1788969600@www.radicalsweden.nu
SUMMARY:Drivers Club - Ring Knutstorp
DESCRIPTION:
URL:https://www.radicalsweden.nu/event/drivers-club-ring-knutstorp-9/
LOCATION:Ring Knutstorp\, Knutstorpsvägen 1030\, Kågeröd\, 26876\, Sweden
CATEGORIES:Test/Trackday
END:VEVENT
BEGIN:VEVENT
DTSTART;TZID=UTC:20260912T090000
DTEND;TZID=UTC:20260912T160000
DTSTAMP:20260419T161519
CREATED:20260128T144227Z
LAST-MODIFIED:20260128T150911Z
UID:6500-1789203600-1789228800@www.radicalsweden.nu
SUMMARY:Drivers Club - Ljungbyhed
DESCRIPTION:
URL:https://www.radicalsweden.nu/event/drivers-club-ljungbyhed-27/
LOCATION:Ljungbyheds Motorbana\, THULINVÄGEN 23\, Ljungbyhed\, 26451\, Sweden
CATEGORIES:Test/Trackday
END:VEVENT
BEGIN:VEVENT
DTSTART;TZID=UTC:20260918T090000
DTEND;TZID=UTC:20260919T170000
DTSTAMP:20260419T161519
CREATED:20260128T144944Z
LAST-MODIFIED:20260128T150837Z
UID:6540-1789722000-1789837200@www.radicalsweden.nu
SUMMARY:Radical Cup Europe R5 - Circuit de Barcelona
DESCRIPTION:
URL:https://www.radicalsweden.nu/event/radical-cup-europe-r5-circuit-de-barcelona/
LOCATION:Circuit de Barcelona-Catalunya\, Mas La Moreneta\, Montmeló\, Spain
CATEGORIES:Radical Cup Europe
END:VEVENT
BEGIN:VEVENT
DTSTART;TZID=UTC:20260926T090000
DTEND;TZID=UTC:20260926T170000
DTSTAMP:20260419T161519
CREATED:20260128T144227Z
LAST-MODIFIED:20260128T150700Z
UID:6509-1790413200-1790442000@www.radicalsweden.nu
SUMMARY:Radical Cup Scandinavia R4 - Jyllandsringen
DESCRIPTION:
URL:https://www.radicalsweden.nu/event/radical-cup-scandinavia-r4-jyllandsringen/
LOCATION:FDM Jyllandsringen\, Skellerupvej 38\, Silkeborg\, 8600\, Denmark
CATEGORIES:Radical Cup Scandinavia
END:VEVENT
BEGIN:VEVENT
DTSTART;TZID=UTC:20261003T090000
DTEND;TZID=UTC:20261003T160000
DTSTAMP:20260419T161519
CREATED:20260128T144227Z
LAST-MODIFIED:20260128T150628Z
UID:6502-1791018000-1791043200@www.radicalsweden.nu
SUMMARY:Drivers Club - Ljungbyhed
DESCRIPTION:
URL:https://www.radicalsweden.nu/event/drivers-club-ljungbyhed-26/
LOCATION:Ljungbyheds Motorbana\, THULINVÄGEN 23\, Ljungbyhed\, 26451\, Sweden
CATEGORIES:Test/Trackday
END:VEVENT
BEGIN:VEVENT
DTSTART;TZID=UTC:20261008T090000
DTEND;TZID=UTC:20261008T160000
DTSTAMP:20260419T161519
CREATED:20260128T144227Z
LAST-MODIFIED:20260128T150605Z
UID:6503-1791450000-1791475200@www.radicalsweden.nu
SUMMARY:Drivers Club - Ljungbyhed
DESCRIPTION:
URL:https://www.radicalsweden.nu/event/drivers-club-ljungbyhed-25/
LOCATION:Ljungbyheds Motorbana\, THULINVÄGEN 23\, Ljungbyhed\, 26451\, Sweden
CATEGORIES:Test/Trackday
END:VEVENT
BEGIN:VEVENT
DTSTART;TZID=UTC:20261014T090000
DTEND;TZID=UTC:20261014T160000
DTSTAMP:20260419T161519
CREATED:20260128T144227Z
LAST-MODIFIED:20260128T150536Z
UID:6504-1791968400-1791993600@www.radicalsweden.nu
SUMMARY:Drivers Club - Ring Knutstorp
DESCRIPTION:
URL:https://www.radicalsweden.nu/event/drivers-club-ring-knutstorp-8/
LOCATION:Ring Knutstorp\, Knutstorpsvägen 1030\, Kågeröd\, 26876\, Sweden
CATEGORIES:Test/Trackday
END:VEVENT
BEGIN:VEVENT
DTSTART;TZID=UTC:20261024T090000
DTEND;TZID=UTC:20261024T160000
DTSTAMP:20260419T161519
CREATED:20260128T144227Z
LAST-MODIFIED:20260128T150513Z
UID:6505-1792832400-1792857600@www.radicalsweden.nu
SUMMARY:Drivers Club - Ljungbyhed
DESCRIPTION:
URL:https://www.radicalsweden.nu/event/drivers-club-ljungbyhed-24/
LOCATION:Ljungbyheds Motorbana\, THULINVÄGEN 23\, Ljungbyhed\, 26451\, Sweden
CATEGORIES:Test/Trackday
END:VEVENT
BEGIN:VEVENT
DTSTART;TZID=UTC:20261026T080000
DTEND;TZID=UTC:20261101T170000
DTSTAMP:20260419T161519
CREATED:20260128T153128Z
LAST-MODIFIED:20260128T153129Z
UID:6612-1793001600-1793552400@www.radicalsweden.nu
SUMMARY:Radical Sweden - Semesterstängt
DESCRIPTION:
URL:https://www.radicalsweden.nu/event/radical-sweden-semesterstangt-6/
LOCATION:Ljungbyheds Motorbana\, THULINVÄGEN 23\, Ljungbyhed\, 26451\, Sweden
END:VEVENT
BEGIN:VEVENT
DTSTART;TZID=UTC:20261221T080000
DTEND;TZID=UTC:20270110T170000
DTSTAMP:20260419T161519
CREATED:20260128T153248Z
LAST-MODIFIED:20260128T153249Z
UID:6614-1797840000-1799600400@www.radicalsweden.nu
SUMMARY:Radical Sweden - Semesterstängt
DESCRIPTION:
URL:https://www.radicalsweden.nu/event/radical-sweden-semesterstangt-7/
LOCATION:Ljungbyheds Motorbana\, THULINVÄGEN 23\, Ljungbyhed\, 26451\, Sweden
END:VEVENT
END:VCALENDAR