BEGIN:VCALENDAR
VERSION:2.0
PRODID:-//Radical Motorsport Sweden - ECPv6.15.20//NONSGML v1.0//EN
CALSCALE:GREGORIAN
METHOD:PUBLISH
X-WR-CALNAME:Radical Motorsport Sweden
X-ORIGINAL-URL:https://www.radicalsweden.nu
X-WR-CALDESC:Events for Radical Motorsport Sweden
REFRESH-INTERVAL;VALUE=DURATION:PT1H
X-Robots-Tag:noindex
X-PUBLISHED-TTL:PT1H
BEGIN:VTIMEZONE
TZID:UTC
BEGIN:STANDARD
TZOFFSETFROM:+0000
TZOFFSETTO:+0000
TZNAME:UTC
DTSTART:20250101T000000
END:STANDARD
END:VTIMEZONE
BEGIN:VEVENT
DTSTART;TZID=UTC:20260529T090000
DTEND;TZID=UTC:20260531T170000
DTSTAMP:20260420T124627
CREATED:20260128T144227Z
LAST-MODIFIED:20260128T151652Z
UID:6506-1780045200-1780246800@www.radicalsweden.nu
SUMMARY:Radical Cup Scandinavia R1 - Gelleråsen Arena
DESCRIPTION:
URL:https://www.radicalsweden.nu/event/radical-cup-scandinavia-r1-gellerasen-arena/
LOCATION:Gelleråsen Arena\, Gelleråsen 654\, Karlskoga\, 691 91\, Sweden
CATEGORIES:Radical Cup Scandinavia
END:VEVENT
END:VCALENDAR